BEGIN:VCALENDAR
VERSION:2.0
CALSCALE:GREGORIAN
PRODID:-//MyApp//Calendar 1.0//EN
BEGIN:VEVENT
METHOD:PUBLISH
UID:49906@regionalniportaly.cz
DTSTAMP:20260422T205110Z
DTSTART;VALUE=DATE:20250201
DTEND;VALUE=DATE:20250202
SUMMARY:Mucha + P.P.D.
DESCRIPTION:Mucha je brněnská punková informace sdružená kolem písničkářky a podivínky Nikoly Muchy\, jež se do povědomí společnosti dostala svým nevybíravým vystupováním\, podivným účesem a zejména svými provokativními písněmi oslavující mužskou neschopnost\, genderovou nespravedlnost\, různé úchylky a společenské odchylky\, menšinový útlak\, život v moravské metropoli a jiné podivnosti života.S kytarou vystupuje od svých 15 let a ráda tvrdí\, že na ni umí hrát.Kapela Mucha vznikla v roce 2013. Bezprostředně poté\, co se M.E.Kyšperský z kapely Květy nechal Nikolinou hrou na kytaru doslova uhranout\, splašil kytaristu (P.Zavadil-Ty Syčáci\, Pluto) a bubeníka (Š.Svoboda-Budoár staré dámy\, Japka)\, naučil se v mžiku na baskytaru (Čvachtavý lachtan) a dal vzniknout dodnes působícímu tělesu\, jež obráží kluby a festivaly po celé ČR. Na baskytaru ho později vystřídal kongeniální Ondřej Kyas (Hajzli\, Opera Diversa\, Květy). Na bubny hrál s kapelou poměrně dlouho i cirkusák Jarda Noga (Hm..\, Free Balkan Quintet\, Už jsme doma)\, nyní sedí za bubny Jakub Kočička ( Distant Bells\, Květy)Kapela vydala již 5 vydařených\, kritikou stále nedoceněných alb a to Slováckou Epopej (2013) a Josefene (2014)\, Nána (2016)\, Tos posrals (2019) a Živááák (2024) a natočila spoustu zajímavých videoklipů.&nbsp\;P.P.D. aka Po Pracovní Době"Hrajeme hudbu jejíž styl nejsme s to definitivně definovat. My sami sebe sice nazýváme big-beatovou kapelou\, ale to není tak úplně přesné. Některé skladby vychází z naší alternativně-undergroundové minulosti\, další jsou bluesově laděné a jiné znějí až hard/rockově... prostě taková všehosměs. My s tím nemáme žádný problém a naši fanoušci si museli zvyknout&nbsp\;."
LOCATION:Znojmo
END:VEVENT
END:VCALENDAR