BEGIN:VCALENDAR
VERSION:2.0
CALSCALE:GREGORIAN
PRODID:-//MyApp//Calendar 1.0//EN
BEGIN:VEVENT
METHOD:PUBLISH
UID:49965@regionalniportaly.cz
DTSTAMP:20260422T180652Z
DTSTART;VALUE=DATE:20250206
DTEND;VALUE=DATE:20250207
SUMMARY:Jaroslav Dušek & Mnislav Zelený Atapana
DESCRIPTION:Život\, sex a smrt u indiánůJaroslav Dušek se svými spirituálními znalostmi z kultur celého světa komentuje s jeho typickým humorem a nadsázkou osobní zkušenosti Mnislava Zeleného Atapany z jeho spolužití s amazonskými indiány. Přiblíží vám tak mj. tajemné schopnosti šamanů\, jejich způsob výchovy dětí\, spirituální a fyzické zkoušky dospělosti i veselé pohřby\, kdy život a smrt jedno jest a to vše v kontrastu s naší sebedestruktivní\, úřednickou\, zpohodlnělou civilizací.
LOCATION:Znojmo
END:VEVENT
END:VCALENDAR