BEGIN:VCALENDAR
VERSION:2.0
CALSCALE:GREGORIAN
PRODID:-//MyApp//Calendar 1.0//EN
BEGIN:VEVENT
METHOD:PUBLISH
UID:50102@regionalniportaly.cz
DTSTAMP:20260423T010705Z
DTSTART;VALUE=DATE:20250227
DTEND;VALUE=DATE:20250228
SUMMARY:A SPORTUJ! Beseda s Vladimírem Šmicerem
DESCRIPTION:Zveme vás na jedinečné setkání s Vladimírem Šmicerem\, bývalým fotbalovým reprezentantem a vítězem Ligy mistrů s legendárním Liverpoolem. Přijďte si poslechnout jeho příběh plný úspěchů\, zajímavostí z kariéry profesionálního fotbalisty a současných aktivit\, kterým se věnuje.Beseda je určena pro rodiče s dětmi i všechny sportovní nadšence\, kteří chtějí nahlédnout do zákulisí špičkového sportu a najít motivaci pro vlastní pohybové aktivity.Součástí akce bude i soutěž o podepsaný dres Vladimíra Šmicera a autogramiáda\, kde si můžete odnést cenný suvenýr.Nepropásněte příležitost strávit inspirativní odpoledne ve společnosti fotbalové legendy.Těšíme se na vás.
LOCATION:Znojmo
END:VEVENT
END:VCALENDAR