BEGIN:VCALENDAR
VERSION:2.0
CALSCALE:GREGORIAN
PRODID:-//MyApp//Calendar 1.0//EN
BEGIN:VEVENT
METHOD:PUBLISH
UID:50258@regionalniportaly.cz
DTSTAMP:20260422T221833Z
DTSTART;VALUE=DATE:20250301
DTEND;VALUE=DATE:20250302
SUMMARY:Chutnáme Znojmo
DESCRIPTION:
LOCATION:Znojmo
END:VEVENT
END:VCALENDAR