BEGIN:VCALENDAR
VERSION:2.0
CALSCALE:GREGORIAN
PRODID:-//MyApp//Calendar 1.0//EN
BEGIN:VEVENT
METHOD:PUBLISH
UID:50560@regionalniportaly.cz
DTSTAMP:20260422T181548Z
DTSTART;VALUE=DATE:20250322
DTEND;VALUE=DATE:20250323
SUMMARY:DUŠAN VLK + Temný Rudo + Adam the World
DESCRIPTION:Dušan VlkDušan je jednou z tváří současné rapové alternativy na československé scéně. Jeho hudba je fúzí několika žánrů a subžánrů\, nejvíce ji však charakterizují trapové basy\, phonk cowbell nebo postpunkové riffy - to vše Dušan často halí do melancholické LO-FI estetiky.Jeho koncertní repertoár tvoří čtyři projekty\, které vydal jako nezávislý umělec od roku 2020 (EP 1996\; debutové album Asthmaboy\; EP Korporát a čerstvý projekt Babie leto v podzemí).V živém hudebním vystoupení Dušana Vlka se objevuje také druhý vokál a několik skladeb Temného Ruda. Třetí člen kapely\, David-san\, hraje do tance a je hlavou zvuku\, který skupina vytváří.https://www.instagram.com/dusan_vlk/Adam the WorldAdam the World je rapper a alternativní R'n'B umělec z Kremnice. Od roku 2019 tvoří hudbu se svou crew WOC (Window of Creativity\, do které patří také Vrillton a Samm734). V roce 2020 vydal svůj první sólový projekt Bliss. Na každém z jeho alb můžete slyšet tvůrčí fáze\, kterými procházel v období jejich nahrávání. Jeho poslední full length projekt I Hear Colors ho však dostal do povědomí většího počtu posluchačů slovenského undergroundu. Vyznačuje se něžnými melodickými skladbami\, na kterých rozebírá především téma lásky.https://www.instagram.com/adamtheworld/
LOCATION:Znojmo
END:VEVENT
END:VCALENDAR