BEGIN:VCALENDAR
VERSION:2.0
CALSCALE:GREGORIAN
PRODID:-//MyApp//Calendar 1.0//EN
BEGIN:VEVENT
METHOD:PUBLISH
UID:51416@regionalniportaly.cz
DTSTAMP:20260422T193237Z
DTSTART;VALUE=DATE:20250402
DTEND;VALUE=DATE:20250403
SUMMARY:Markéta Hrubešová
DESCRIPTION:Beseda s populární herečkou\, moderátorkou\, kuchařkou a spisovatelkou Markétou Hrubešovou.
LOCATION:Znojmo
END:VEVENT
END:VCALENDAR