BEGIN:VCALENDAR
VERSION:2.0
CALSCALE:GREGORIAN
PRODID:-//MyApp//Calendar 1.0//EN
BEGIN:VEVENT
METHOD:PUBLISH
UID:51447@regionalniportaly.cz
DTSTAMP:20260422T205753Z
DTSTART;VALUE=DATE:20250315
DTEND;VALUE=DATE:20250316
SUMMARY:ŠVIHADLO + afterparty!
DESCRIPTION:Legendární česká reggae kapela ŠVIHADLO vznikla v Mladé Boleslavi v roce 1983\, tehdy ještě pod názvem Nouzový východ. Mezi nejznámější hity patří Na Jamajce půl srdce mám\, Po tobě toužím nebo Zelený list – píseň\, která původně vznikla spíše jako vtip. Kapela objíždí kluby a festivaly v České republice a na Slovensku\, koncertovala v okolních zemích a dokonce i v Číně. Vydala 6 řadových alb\, jedno album rarit (k 20. výročí – Pozpátku – 2003)\, jeden maxisingl (REGGAE minideSKA – 2004)\, a k 30. výročí i výběrové album (Best of 30 – 2013). Za album Oči otevřený kapela dostala cenu Anděl (v žánru ska &amp\; reggae). ŠVIHADLO aktuálně láká mimo svoji klasiku i na tři hudební novinky s názvy Stíny\, Laj laj laj a Bez oken.Nejnovější je album Vůně trávy\, které vyšlo v březnu 2020. Na něm kapela spolupracuje se spoustou zajímavých hostů a pro inspiraci si odjela na Jamajku.http://www.svihadlo.cz/https://www.youtube.com/channel/UCYOP24bDgzLzkW5a3g8gvvghttps://www.youtube.com/watch?v=s2GE_6mRLUU&amp\;t=31shttps://www.instagram.com/svihadlo_official/https://www.facebook.com/svihadlo/Po koncertě následuje afterparty\, na které svoje reggae-ska-punkový vinyly roztočí DJ MILS
LOCATION:Znojmo
END:VEVENT
END:VCALENDAR