BEGIN:VCALENDAR
VERSION:2.0
CALSCALE:GREGORIAN
PRODID:-//MyApp//Calendar 1.0//EN
BEGIN:VEVENT
METHOD:PUBLISH
UID:51593@regionalniportaly.cz
DTSTAMP:20260422T193117Z
DTSTART;VALUE=DATE:20250426
DTEND;VALUE=DATE:20250427
SUMMARY:Hnanické otevřené sklepy 2025
DESCRIPTION:Sklenička\, mapka a jde se degustovat 🙂Vstupné v předprodeji je ve dvou vlnách - I.vlna &nbsp\;300\,- Kč\, II.vlna&nbsp\;&nbsp\;350\,- Kča na místě 400\,- Kč a obsahuje skleničku\, dva poukazy na nákup lahví vína(2x 100\,- Kč)\, mapku otevřených sklepů\, pásku.Samozřejmostí je degustace vín v nejméně dvaceti sklepech.Stručné informace k průběhu akce:Skleničky budou k dostání na Informačních místech na začátku a koci sklepní uličky ( na mapce označené jako INFO )Hradí se jednotlivé vzorky ve sklepích ( ceny jsou v režii vinaře)Bude znovu posílené autobusové s pojení Znojmo - Hnanice a zpětAtmosféru doladí na náměstíčku na začátku sklepní uličky Kulturní program - večer DUO Karel a Denisa a odpoledne CM Ladislava Beneše (NOTEČKA)Opět můžete během letošního ročníku využít aplikaci Vinařského asistenta\, kterou budou moci využít návštěvníci při Dnech otevřených sklepů v Hnanicích. Odkaz https://hnanice.ad4wine.com/
LOCATION:Hnanice
END:VEVENT
END:VCALENDAR