BEGIN:VCALENDAR
VERSION:2.0
CALSCALE:GREGORIAN
PRODID:-//MyApp//Calendar 1.0//EN
BEGIN:VEVENT
METHOD:PUBLISH
UID:52390@regionalniportaly.cz
DTSTAMP:20260422T205924Z
DTSTART;VALUE=DATE:20250328
DTEND;VALUE=DATE:20250329
SUMMARY:Čad - 30 let tour - Laid to Waste
DESCRIPTION:Čad ve spolupráci s Metal Feast Agency uvádí 30 ROKOV ČADU tour\, které bude probíhat od února až do května. Kapela ČAD tímto oslaví 30. výročí svého vzniku a podpoří úspěšně pokřtěnou desku " Vel'ký tresk".&nbsp\;&nbsp\;Co-headliner tohoto koncertu je kapela Laid to Waste\, která to zandala například na festivalu Brutal Assault!
LOCATION:Znojmo
END:VEVENT
END:VCALENDAR