BEGIN:VCALENDAR
VERSION:2.0
CALSCALE:GREGORIAN
PRODID:-//MyApp//Calendar 1.0//EN
BEGIN:VEVENT
METHOD:PUBLISH
UID:52500@regionalniportaly.cz
DTSTAMP:20260422T205038Z
DTSTART;VALUE=DATE:20250718
DTEND;VALUE=DATE:20250719
SUMMARY:Cimbál\, víno\, láska
DESCRIPTION:OBRÁZKY ZE SLOVENSKA - JEDINEČNÉ SPOJENÍ KLASICKÉ A LIDOVÉ HUDBY. Společný projekt smyčcového kvarteta Spectrum Quartett pod vedením houslisty Jana Kružliaka ml.\, lidové kapely Nogaband primáše Michala Nogy a vokální skupiny Uljanky pod vedením Margity Jágerové a hostující zpěvačkou Simonou Hulejovou přináší propojení mezi těmito dvěma zdánlivě nesouvisejícími hudebními světy.ÚČINKUJÍCÍ:Spectrum Quartett (SK) - smyčcový kvartetNoga Band (SK) - lidová hudbaUlijanky (SK) - ženská pěvecká skupinaSimona Hulejová (SK) - zpěv&nbsp\;
LOCATION:Znojmo
END:VEVENT
END:VCALENDAR