BEGIN:VCALENDAR
VERSION:2.0
CALSCALE:GREGORIAN
PRODID:-//MyApp//Calendar 1.0//EN
BEGIN:VEVENT
METHOD:PUBLISH
UID:52501@regionalniportaly.cz
DTSTAMP:20260422T205047Z
DTSTART;VALUE=DATE:20250724
DTEND;VALUE=DATE:20250725
SUMMARY:Koncert vítězů
DESCRIPTION:Již tradičně se na Jevišovickém zámku uskuteční koncert věnovaný mladým nadějím barokní hudby. Absolventi letní školy se postupně stávají součástí českých i zahraničních ansámblů a mnozí z nich se pak v budoucnu zapojují i do spolupráce s festivalem. Na zámku v Jevišovicích si také můžete prohlédnout 2. největší sbírku starých hudebních nástrojů v ČRÚčinkující:1. místo: Carla Sanmartín - zpěv2. místo: Nikita Ruzhavinskiy - violoncello3. místo: Lucie Regináčová - zpěvza doprovodu souboru orchestru Czech Ensemble BaroqueOdjezd autobusu od městského divadla&nbsp\;v 17:30 hodin.
LOCATION:Jevišovice
END:VEVENT
END:VCALENDAR