BEGIN:VCALENDAR
VERSION:2.0
CALSCALE:GREGORIAN
PRODID:-//MyApp//Calendar 1.0//EN
BEGIN:VEVENT
METHOD:PUBLISH
UID:52512@regionalniportaly.cz
DTSTAMP:20260422T193227Z
DTSTART;VALUE=DATE:20250525
DTEND;VALUE=DATE:20250526
SUMMARY:Pohádková stezka /  ZNOJMO
DESCRIPTION:🎉 Nejoblíbenější pohádková stezka míří do Znojma! 🎉Potkejte své oblíbené pohádkové kamarády!Na trase vás čekají zábavné úkoly pro děti a také setkání s vašimi oblíbenými pohádkovými kamarády\, jako jsou hrdinové z Tlapkové patroly\, Ledového království\, Máši a medvěda\, králíčka Binga a mnoha dalších\, které vaše děti zbožňují. ♥👧 Vhodné pro děti ve věku 2–7 let📅 Datum: 25. 05. 2025⏰ Čas: Najdete na své zakoupené vstupence📍 Místo: Lesopark Gránice\, Znojmo (ul. Gránická)🚩 Start: https://maps.app.goo.gl/HkVKBVjbeAKB1xJ38👶 (Děti do 12 měsíců ZDARMA)Po příchodu se prosím zaregistrujte u našeho stánku. 🎪
LOCATION:Znojmo
END:VEVENT
END:VCALENDAR