BEGIN:VCALENDAR
VERSION:2.0
CALSCALE:GREGORIAN
PRODID:-//MyApp//Calendar 1.0//EN
BEGIN:VEVENT
METHOD:PUBLISH
UID:52741@regionalniportaly.cz
DTSTAMP:20260422T170451Z
DTSTART;VALUE=DATE:20250502
DTEND;VALUE=DATE:20250503
SUMMARY:Fvck Kvlt: Mŕtva revolúcia tour + Viktor Ori
DESCRIPTION:Fvck Kvlt&nbsp\;Koncom minulého roka sa Denis Bango po vypredaných klavírnych koncertoch zavrel do štúdia a 13. marca vydal svoj štvrtý štúdiový album Mŕtva revolúcia. Na turné je s ním aj jeho crew\, Paris a DJ VKTRD. Minulý&nbsp\;rok sa k nim na pár posledných koncertov Cigáňa pridal aj bubeník Jakub&nbsp\;Spiszak\, ktorý sa stal novým členom kapely.&nbsp\;FVCK KVLT je hudobný projekt trnavského punkáča Denisa Banga\, ktorý hýbe slovenskou scénou už od albumu&nbsp\;Zabijem sa!&nbsp\;Tesne po vydaní albumu&nbsp\;Cigán&nbsp\;si získal médiá\, fanúšikov a získal zaň tiež dve Rádiohlavy (Album roka / Novinárske ocenenie \, Album roka / Poslucháčske ocenenie). Cigán bol a je angažovaný\, priamy\, niekedy až surovo úprimný.&nbsp\;Mŕtva revolúcia&nbsp\;sa podľa Denisových slov približuje k jeho dlhoročnej vízii o dva kroky viac než predošlé projekty\, ktoré sa k nej vždy priblížili len o jeden krok.„Už ma z toho celého bolí hlava a rád by som si konečne normálne v klude pospal. A zobudil sa do trochu iného sveta. Kúpte mi horúcu čokoládu\, prosím.“&nbsp\;– Denis BangoK albumu patrí aj zverejnený Manifest Mŕtvej revolúcie – experimentálny text\, ktorý zastrešuje koncept celého projektu a bude voľne šírený aj v tlačenej samizdatovej forme na koncertoch a ako príloha k LP a merchu.&nbsp\;Viktor OriViktor Ori je známym menom na slovenskej alternatívnej hudobnej scéne. Dlhé roky bol spevákom a gitaristom kapely Shallov\, ktorá bola aktívna od 2014 do 2024 a odohrala takmer 300 koncertov v 17 krajinách. Viktor Ori však aktuálne vymenil angličtinu za slovenčinu\, v ktorej podáva osobnú a spoločenskú výpoveď s ešte väčšou hudobnou rozmanitosťou\, ako kedykoľvek predtým. Jadro hudby stále stojí na živých bicích a gitarách\, no na aktuálnej tvorbe sa objavuje aj množstvo syntetizátorov\, sampling\, klavír a taktiež množstvo hudobných hostí. Debutový sólový album Viktora Oriho LEPSIE NEBOLO NIKDY DOBRE NEBUDE &nbsp\;je albumom veľmi rôznorodým\, komplexným\, ale aj priamočiarym. Žánrovo aj tematicky. Ide o album plný svetožiaľu\, čo je pojem\, ktorý v nemčine nesie aj názov vydavateľstva Weltschmerzen\, pod ktorým album vyšiel.LEPSIE NEBOLO NIKDY DOBRE NEBUDE vykresľuje o súčasnom svete pochmúrny obraz. Nakoniec\, presne ako doba\, ktorú žijeme. Je výpoveďou chvíľami subjektívnou a osobnou\, inokedy univerzálnou\, všeobecnou\, generačnou. Vždy však hlboko úprimnou a politickou.
LOCATION:Znojmo
END:VEVENT
END:VCALENDAR