BEGIN:VCALENDAR
VERSION:2.0
CALSCALE:GREGORIAN
PRODID:-//MyApp//Calendar 1.0//EN
BEGIN:VEVENT
METHOD:PUBLISH
UID:52813@regionalniportaly.cz
DTSTAMP:20260422T170243Z
DTSTART;VALUE=DATE:20250726
DTEND;VALUE=DATE:20250727
SUMMARY:Hnanické otevřené sklepy pod hvězdami 2025
DESCRIPTION:Sklenička a jde se nasát večerní atmosféra nově zrekonstruované a osvětlené sklepní uličky a hlavně degustovat vína Hnanických vinařů.&nbsp\;Každý návštěvník akce Hnanické otevřené sklepy pod hvězdami si může vstupné zakoupit buďto v předprodeji od&nbsp\;300\,- Kč nebo na místě za 400 Kč. Vstupné obsahuje skleničku\, mapku a dva pokazy (2x100\,-Kč) na nákup lahví vína&nbsp\; Zaplacením vstupného podpoříte kulturní program otevřených sklepů.Samozřejmostí je degustace vín v nejméně patnácti sklepech.Návštěvník si hradí jednotlivé vzorky ve sklepích (ceny jsou v režii vinaře)Sklepní ulička v Hnanicích byla navržena a uznána za státem chráněnou památkovou zónu.Návštěvníci Otevřených&nbsp\;sklepů pod hvězdami budou moci opět využít aplikaci&nbsp\;Vinařského asistenta.Odkaz https://hnanice.ad4wine.com/
LOCATION:Hnanice
END:VEVENT
END:VCALENDAR