BEGIN:VCALENDAR
VERSION:2.0
CALSCALE:GREGORIAN
PRODID:-//MyApp//Calendar 1.0//EN
BEGIN:VEVENT
METHOD:PUBLISH
UID:52912@regionalniportaly.cz
DTSTAMP:20260422T205236Z
DTSTART;VALUE=DATE:20250717
DTEND;VALUE=DATE:20250718
SUMMARY:Koncert znojemských hudebníků - S LÁSKOU K HOUSLÍM
DESCRIPTION:Láska k houslím děděná z generace na generaci. Otec Jiří\, syn Matouš a dědeček Ladislav\, všichni původem ze Znojma vystoupí společně se Znojemským komorním orchestrem pod vedením Marka Filipa. Na jednom pódiu se tak setká pedagog ZUŠ Znojmo\, pedagog Konzervatoře Brno a žák Konzervatoře Brno.&nbsp\;Účinkující:Jiří Pospíchal - housleMatouš Pospíchal - housleLadislav Pospíchal - housleZnojemský komorní orchestr pod vedením Marka Filipa
LOCATION:Znojmo
END:VEVENT
END:VCALENDAR