BEGIN:VCALENDAR
VERSION:2.0
CALSCALE:GREGORIAN
PRODID:-//MyApp//Calendar 1.0//EN
BEGIN:VEVENT
METHOD:PUBLISH
UID:52991@regionalniportaly.cz
DTSTAMP:20260422T221607Z
DTSTART;VALUE=DATE:20250625
DTEND;VALUE=DATE:20250626
SUMMARY:Rodinná opera: Lukáš Sommer - Ezopotámie - předpremiéra III.
DESCRIPTION:Hudební festival Znojmo přichází opět s něčím novým a nevídaným. Chystá&nbsp\; představení unikátní autorské rodinné opery od Lukáše Sommera: Ezopotámie.Zlodějíčka napálí ještě rafinovanější lapka\, na vychytralce čeká ještě důvtipnější chytrák. Jak dopadnou dvě myši v lítém souboji s hospodářem a bystrou kolčavou nebo degustacemi znavený vinař zápasící s párem vrabčáků?&nbsp\; Kdo tahá za kratší konec se ukáže během rozpustilé opery na motivy Ezopových bajek\, která Vás ani na moment nenechá chladnými. Věčnou bitvu člověka se zvířecím světem provází kánon o sušených rajčatech\, nebo gospelová modlitba za kejtičku z dílny skladatele Lukáše Sommera\, která zazní ve festivalové premiéře.&nbsp\;&nbsp\;Opera o dvou dějstvích je určena pro děti od 7-15 let i přerostlé děti od 15 let výše.
LOCATION:Znojmo
END:VEVENT
END:VCALENDAR