BEGIN:VCALENDAR
VERSION:2.0
CALSCALE:GREGORIAN
PRODID:-//MyApp//Calendar 1.0//EN
BEGIN:VEVENT
METHOD:PUBLISH
UID:53347@regionalniportaly.cz
DTSTAMP:20260422T221628Z
DTSTART;VALUE=DATE:20250524
DTEND;VALUE=DATE:20250525
SUMMARY:Beatles Revival + Karel Kahovec + Vzpomínka na Petra Nováka
DESCRIPTION:Legendární večer v Dobšicích!Sobota 24. 5. 2025 od 19:00 | Areál Sokolovny Dobšice u Znojma&nbsp\;Přijďte si užít nezapomenutelný hudební večer plný největších hitů!Na jednom pódiu se představí:&nbsp\;The Beatles Revival – světově uznávaná kapela\, která vás přenese do zlaté éry legendárních Brouků!Karel Kahovec – originální hlas českého bigbítu a živoucí legenda s hity\, které nestárnou.Vzpomínka na Petra Nováka – dojemný hudební hold jedné z největších ikon české populární hudby.P.P.D. - Po Pracovní Době - místní rocková legenda vystupující již od roku 1987&nbsp\;Těšte se na atmosféru plnou emocí\, skvělé muziky a návrat do časů\, kdy hudba měla duši!&nbsp\;Vstupné v předprodeji (550Kč) nebo na místě (650Kč) | Občerstvení zajištěno | Všichni jste srdečně zváni!Koná se v areálu sokolovny. V případě deště se koná v sokolovně.
LOCATION:Dobšice
END:VEVENT
END:VCALENDAR