BEGIN:VCALENDAR
VERSION:2.0
CALSCALE:GREGORIAN
PRODID:-//MyApp//Calendar 1.0//EN
BEGIN:VEVENT
METHOD:PUBLISH
UID:53361@regionalniportaly.cz
DTSTAMP:20260422T165614Z
DTSTART;VALUE=DATE:20250527
DTEND;VALUE=DATE:20250528
SUMMARY:Narodíme se jen jednou...
DESCRIPTION:NÁHRADNÍ TERMÍN ZA ZRUŠENÉ PŘEDSTAVENÍ 9. 4. 2025&nbsp\;Ilona Svobodová\, Olin Nejezchleba a Norbi Kovács vzpomínají na skvělého hudebníka\, skladatele\, kamaráda a partnera PETRA SKOUMALA (7. 3. 1938 - 28. 9. 2014).
LOCATION:Znojmo
END:VEVENT
END:VCALENDAR