BEGIN:VCALENDAR
VERSION:2.0
CALSCALE:GREGORIAN
PRODID:-//MyApp//Calendar 1.0//EN
BEGIN:VEVENT
METHOD:PUBLISH
UID:53392@regionalniportaly.cz
DTSTAMP:20260422T182350Z
DTSTART;VALUE=DATE:20250607
DTEND;VALUE=DATE:20250608
SUMMARY:Dáša Zázvůrková zpívá Hanu Hegerovou
DESCRIPTION:Nejlepší a nejvěrohodnější soudobá interpretka legendy českého šansonu Dáša Zázvůrková s týmem svých muzikantů zahájí první ročník šaldorfského festivalu&nbsp\;Hudební léto ve stodole.
LOCATION:Nový Šaldorf-Sedlešovice
END:VEVENT
END:VCALENDAR