BEGIN:VCALENDAR
VERSION:2.0
CALSCALE:GREGORIAN
PRODID:-//MyApp//Calendar 1.0//EN
BEGIN:VEVENT
METHOD:PUBLISH
UID:53395@regionalniportaly.cz
DTSTAMP:20260422T205528Z
DTSTART;VALUE=DATE:20250620
DTEND;VALUE=DATE:20250621
SUMMARY:Grilovačka s Town Bandem Tomáše Třetiny
DESCRIPTION:Přijďte si v předvečer šaldorfského FoodFestu poslechnout&nbsp\;Town band\, kapelu hrající folk a country\, senátora Tomáše Třetiny.K poslechu bude možné ochutnat jedinečné grilované specialisty šéfa grilu Pavla Hájka z Brandy la Moravia\, které budete moci zapít nejen lahodným&nbsp\;vínem ze Stehlíkovic sklepa\, ale i Dalešickým pivem. A pro děti bude točená limča.Town Band:• Bořivoj Švéda\,&nbsp\;šéf kulturního střediska: kytara• Jitka Švédová\,&nbsp\;učitelka: kontrabas• Josef Kejík\,&nbsp\;právník: banjo• Rudolf Fráňa\,&nbsp\;šéf strážníků: ukulele• Tomáš Třetina\,&nbsp\;starosta: dvanáctistrunná&nbsp\;kytara&nbsp\;
LOCATION:Nový Šaldorf-Sedlešovice
END:VEVENT
END:VCALENDAR