BEGIN:VCALENDAR
VERSION:2.0
CALSCALE:GREGORIAN
PRODID:-//MyApp//Calendar 1.0//EN
BEGIN:VEVENT
METHOD:PUBLISH
UID:53397@regionalniportaly.cz
DTSTAMP:20260422T142521Z
DTSTART;VALUE=DATE:20250816
DTEND;VALUE=DATE:20250817
SUMMARY:Opravna duší Martiny Preissové a Dáši Zázvůrkové
DESCRIPTION:Hudebně - literární show herečky a spisovatelky Martiny Preissové a zpěvačky a herečky Dáši Zázvůrkové:Máte manžela? Máte manželku? Jste svobodní? Jste málo šťastní\, nebo příliš bezstarostní? Cítíte se&nbsp\;někdy sami\, nesnášíte nakupování\, nebo trpíte nadváhou? Máme lék na&nbsp\;mnoho vašich starostí. A&nbsp\;jak to&nbsp\;děláme? Donutíme vás na&nbsp\;ně během našeho pořadu zapomenout! Na&nbsp\;každou vaši drobnou starost máme náplast ve&nbsp\;formě duetu\, fejetonu\, stand upu nebo sólového šansonu. To&nbsp\;vše z&nbsp\;naší autorské dílny a&nbsp\;s notnou dávkou humoru.
LOCATION:Nový Šaldorf-Sedlešovice
END:VEVENT
END:VCALENDAR