BEGIN:VCALENDAR
VERSION:2.0
CALSCALE:GREGORIAN
PRODID:-//MyApp//Calendar 1.0//EN
BEGIN:VEVENT
METHOD:PUBLISH
UID:53411@regionalniportaly.cz
DTSTAMP:20260422T182532Z
DTSTART;VALUE=DATE:20250704
DTEND;VALUE=DATE:20250705
SUMMARY:Ivo Jahelka zpívá ve stodole
DESCRIPTION:Prázdniny zahájíme s oblíbeným zpívajícím právníkem\, který se proslavil zhudebňováním soudních případů.&nbsp\;
LOCATION:Nový Šaldorf-Sedlešovice
END:VEVENT
END:VCALENDAR