BEGIN:VCALENDAR
VERSION:2.0
CALSCALE:GREGORIAN
PRODID:-//MyApp//Calendar 1.0//EN
BEGIN:VEVENT
METHOD:PUBLISH
UID:53417@regionalniportaly.cz
DTSTAMP:20260422T142514Z
DTSTART;VALUE=DATE:20250905
DTEND;VALUE=DATE:20250906
SUMMARY:Beseda u cimbálu s Cimbálovou muzikou Antonína Stehlíka
DESCRIPTION:Koncert u příležitosti oslavy nedožitých 80 let Antonína Stehlíka\, zakladatele cimbálové muziky\, která si získala věhlas nejen doma na znojemsku.
LOCATION:Nový Šaldorf-Sedlešovice
END:VEVENT
END:VCALENDAR