BEGIN:VCALENDAR
VERSION:2.0
CALSCALE:GREGORIAN
PRODID:-//MyApp//Calendar 1.0//EN
BEGIN:VEVENT
METHOD:PUBLISH
UID:53614@regionalniportaly.cz
DTSTAMP:20260422T170359Z
DTSTART;VALUE=DATE:20250716
DTEND;VALUE=DATE:20250717
SUMMARY:Koncert jaroslavického zámku: PROJEKT METASTASIO
DESCRIPTION:V letošním ročníku uctíme velikána barokní hudby díky české operní pěvkyni Monice Jägerové v doprovodu špičkových hudebníků. Průvodní slovo přednese známá česká herečka Martina Preissová. Koncert proběhně v prostorech zámku Jaroslavice\, který pochází z 16. století a je chráněn jako kulturní památka.Na koncertě zazní kantáty pro alt a basso continuo na Metastasiovy texty N. Porpory\, J. A. Hasseho a L. Lea a dvě dramatické kantáty Kleopatra a Lukrécie Benedetta Marcella.&nbsp\;Účinkují:​Monika Jägerová&nbsp\; - altDalibor Pimek - violoncelloMarek Kubát - arciloutnaMarek Čermák - cembaloMartina Preissová - přednes
LOCATION:Jaroslavice
END:VEVENT
END:VCALENDAR