BEGIN:VCALENDAR
VERSION:2.0
CALSCALE:GREGORIAN
PRODID:-//MyApp//Calendar 1.0//EN
BEGIN:VEVENT
METHOD:PUBLISH
UID:53616@regionalniportaly.cz
DTSTAMP:20260422T160323Z
DTSTART;VALUE=DATE:20250720
DTEND;VALUE=DATE:20250721
SUMMARY:Koncert ze znojemských archivů: CAPELLA SEBASTIANA
DESCRIPTION:Letošní program koncertu se&nbsp\;zaměřuje na&nbsp\;okruh skladatelů pohybujících se&nbsp\;na přelomu 16. a&nbsp\;17. století v&nbsp\;okruhu císaře Rudolfa II. v&nbsp\;Praze. Mnozí z&nbsp\;nich byli natolik evropsky slavní a&nbsp\;známí\, že se&nbsp\;jejich hudba začala rychle šířit a&nbsp\;opisovat na&nbsp\;mnoho kostelních kůrů a&nbsp\;to i&nbsp\;napříč katolickou či&nbsp\;protestanskou vírou. Ani Znojmo v&nbsp\;tomto ohledu nebylo výjimkou. Také ono bylo s&nbsp\;hudební Prahou v&nbsp\;kontaktu\, o&nbsp\;čemž svědčí množství tisků zakoupených městskou radou či&nbsp\;jinými duchovními institucemi Znojma.Účinkují:CAPELLA SEBASTIANAYvetta Fendrichová&nbsp\;– sopránKateřina Šujanová&nbsp\;– sopránOndřej Múčka&nbsp\;– alt/tenorEduard Tomaštík&nbsp\;– tenor/umělecký vedoucíMartin Šujan&nbsp\;– basMarek Čermák&nbsp\;– varhanní pozitivV programu zazní skladby slavného rudolfínského kapelníka Philippa di Monte (1521-1603)\, jeho hudebního kolegy Lamberta de Sayve (1548-1614)\, dále pak ukázky z&nbsp\;díla protestantského autora Johanna Knefelia (cca 1530-1617)\, slovince Jacoba Handla Galla (1550-1591)\, nebo slavného cestovatele Kryštofa Haranta s&nbsp\;Polžic a&nbsp\;Bezdružic (1564-1621). Program je prokládán varhaními vstupy dalších skladatelských současníků.
LOCATION:Znojmo
END:VEVENT
END:VCALENDAR