BEGIN:VCALENDAR
VERSION:2.0
CALSCALE:GREGORIAN
PRODID:-//MyApp//Calendar 1.0//EN
BEGIN:VEVENT
METHOD:PUBLISH
UID:53619@regionalniportaly.cz
DTSTAMP:20260422T165604Z
DTSTART;VALUE=DATE:20250723
DTEND;VALUE=DATE:20250724
SUMMARY:Koncert malých géniů
DESCRIPTION:Vítězové nejuznávanějších dětských soutěží mladých talentů vystoupí s mimořádnými hudebními výkony. Na koncert dohlíží patron festivalu Pavel Šporcl a pomáhá vybírat malé génie na českých hudebních soutěžích.Spolupráce je dohodnuta s následujícími soutěžemi:Kocianovo ÚstíHeranova violoncellová soutěžNárodní soutěž ZUŠ Amadeus Brno
LOCATION:Znojmo
END:VEVENT
END:VCALENDAR