BEGIN:VCALENDAR
VERSION:2.0
CALSCALE:GREGORIAN
PRODID:-//MyApp//Calendar 1.0//EN
BEGIN:VEVENT
METHOD:PUBLISH
UID:53627@regionalniportaly.cz
DTSTAMP:20260422T165013Z
DTSTART;VALUE=DATE:20250727
DTEND;VALUE=DATE:20250728
SUMMARY:Závěrečný galakoncert
DESCRIPTION:Slavnostní koncert se symfoniemi a áriemi v podání SILENTIUM! ensemble pod vedením Tomáše Netopila.Sólový zpěv: Simona Šaturová&nbsp\;(SK) – sopranSpolu s originálním orchestrem SILENTIUM! ensemble pod vedením Tomáše Netopila se Simona Šaturová&nbsp\;ponořila do světa antických mýtů. Silné árie a recitativy vyprávějí o lásce\, ztrátě a touze: Arianna\, opuštěná Theseem\, naříká nad svým osudem na ostrově Naxos a Berenika bojuje o útěchu a jasnost. Haydnovy mistrovské úpravy působivě vyjadřují citovou hloubku mytologických postav a překlenují staletí.&nbsp\;
LOCATION:Znojmo
END:VEVENT
END:VCALENDAR