BEGIN:VCALENDAR
VERSION:2.0
CALSCALE:GREGORIAN
PRODID:-//MyApp//Calendar 1.0//EN
BEGIN:VEVENT
METHOD:PUBLISH
UID:53726@regionalniportaly.cz
DTSTAMP:20260422T170327Z
DTSTART;VALUE=DATE:20250525
DTEND;VALUE=DATE:20250526
SUMMARY:Divadlo MALÉhRY ČTENÍ KE KAFI
DESCRIPTION:Při slavnostním otevření kaple Panny Marie Pomocné v Ječmeništi uvedeme scénické čtení&nbsp\;divadla MALÉhRY "ČTENÍ KE KAFI".S herečkami divadla MALÉhRY Barborou Seidlovou a Nikolou Zbytovskou zažijeme nevšední chvilku pohody a pohledů na obyčejný život. U kafe se přece nemůže přihodit nic špatného ... Scénické čtení fejetonů "ke kafi" z rukopisů Daniely Zbytovské doplněné úsměvnými komiksy Venduly Chalánkové..Účinkují: Barbora Seidlová a Nikola Zbytovská.
LOCATION:Vrbovec
END:VEVENT
END:VCALENDAR