BEGIN:VCALENDAR
VERSION:2.0
CALSCALE:GREGORIAN
PRODID:-//MyApp//Calendar 1.0//EN
BEGIN:VEVENT
METHOD:PUBLISH
UID:53763@regionalniportaly.cz
DTSTAMP:20260422T164834Z
DTSTART;VALUE=DATE:20250719
DTEND;VALUE=DATE:20250720
SUMMARY:Industriální koncert: PAVEL ŠPORCL
DESCRIPTION:Houslový virtuóz Pavel Šporcl oslaví dvacet let svého patronátu nad naším festivalem velkolepým symfonickým koncertem. Ke spolupráci si přizval Český národní symfonický orchestr\, který při této příležitosti povede šéfdirigent Andreas Schüller (DE) – v rámci partnerství s Festivalem Retz.Program koncertu se nese v duchu hlavního dramaturgického tématu letošního ročníku: "Antika a láska". Antiku zastoupí Antické tance Ottorina Respighiho a předehra ke Gluckově opeře Ifigenie v Aulidě. Téma lásky pak ztělesňuje Koncert č. 1 pro housle a orchestr Rafaela Kubelíka\, který zvolil sám patron festivalu. Vrcholem večera bude slavný Houslový koncert e moll\, op. 64 Felixe Mendelssohna Bartholdyho – dílo\, které netřeba dlouze představovat.Překrásné romantické melodie zazní v netradičním industriálním prostředí\, které umocní výjimečnou atmosféru tohoto slavnostního večera.Účinkující:Pavel Šporcl (CZ) - sólo housleČeský národní symfonický orchestr (CZ)pod vedením Andrease Schüllera (DE)
LOCATION:Znojmo
END:VEVENT
END:VCALENDAR