BEGIN:VCALENDAR
VERSION:2.0
CALSCALE:GREGORIAN
PRODID:-//MyApp//Calendar 1.0//EN
BEGIN:VEVENT
METHOD:PUBLISH
UID:53854@regionalniportaly.cz
DTSTAMP:20260422T154056Z
DTSTART;VALUE=DATE:20250726
DTEND;VALUE=DATE:20250727
SUMMARY:Tour de Varhany - permanentka
DESCRIPTION:TATO VSTUPENKA platí pro všechny kostely včetně dopravy autobusem.Odjezd v 10:00 hodin ze zastávky u městského divadla ve Znojmě.Nejstarší původní varhany na Moravě v Louce ve Znojmě\, barokní varhany v Pulkau a varhany ve farním kostele Sv. Krve v Unterretzbachu se stanou svědky dialogu českého varhaníka Ondřeje Múčky a rakouské varhanice Innes Schittengruber. Doprovodné sólo na trubku zahraje Benedikt Fehringer.&nbsp\;11:00 h. kostel Sv. Jakuba\, Unterretzbach (AT)&nbsp\;13:00 h. kostel Nanebevzetí Panny Marie a Sv. Václava\, Znojmo-Louka (CZ)&nbsp\;15:00 h. kostel Sv. Krve\, Pulkau (AT)&nbsp\;&nbsp\;Účinkují:Ondřej Múčka (CZ) - varhanyInes Schüttengruber (AT) - varhanyBenedikt Fehringer (AT) - trubka&nbsp\;
LOCATION:Znojmo
END:VEVENT
END:VCALENDAR