BEGIN:VCALENDAR
VERSION:2.0
CALSCALE:GREGORIAN
PRODID:-//MyApp//Calendar 1.0//EN
BEGIN:VEVENT
METHOD:PUBLISH
UID:54701@regionalniportaly.cz
DTSTAMP:20260422T142425Z
DTSTART;VALUE=DATE:20250806
DTEND;VALUE=DATE:20250807
SUMMARY:CHANTAL POULLAIN - Šansonový recitál
DESCRIPTION:CHANTAL POULLAIN - Šansonový recitál v doprovodu tria Štěpána MarkovičeNezaměnitelný hluboko posazený hlas a lahodná francouzština Chantal Poullain\, jazzově laděné trio pod vedením Štěpána Markoviče a atmosféra sladké Francie.
LOCATION:Bítov
END:VEVENT
END:VCALENDAR