BEGIN:VCALENDAR
VERSION:2.0
CALSCALE:GREGORIAN
PRODID:-//MyApp//Calendar 1.0//EN
BEGIN:VEVENT
METHOD:PUBLISH
UID:54897@regionalniportaly.cz
DTSTAMP:20260422T164846Z
DTSTART;VALUE=DATE:20250621
DTEND;VALUE=DATE:20250622
SUMMARY:Family Food Festival v Hrušovanech nad Jevišovkou
DESCRIPTION:Ochutnejte v sobotu 21. června světovou kuchyni na prvním ročníku Family Food Festivalu CZ v Hrušovanech nad Jevišovkou v rámci Hrušovanských slavností! \nMůžete se těšit na street food v podání několika restaurací\, kvalitní pitný režim také zajištěn.\nVstup je zdarma.\nSledujte akci na Facebooku.
LOCATION:Hrušovany nad Jevišovkou
END:VEVENT
END:VCALENDAR