BEGIN:VCALENDAR
VERSION:2.0
CALSCALE:GREGORIAN
PRODID:-//MyApp//Calendar 1.0//EN
BEGIN:VEVENT
METHOD:PUBLISH
UID:54987@regionalniportaly.cz
DTSTAMP:20260422T154309Z
DTSTART;VALUE=DATE:20251001
DTEND;VALUE=DATE:20251002
SUMMARY:Kecy & Politika
DESCRIPTION:Bohumil Pečinka - politický komentátor a dlouholetý zástupce šéfredaktora Reflexu a Petros Michopulos - expert na politický marketing živě v Harvartu.Současná politika pohledem dvou rozdílných osobností\, které&nbsp\;se nebojí říct své názory.
LOCATION:Znojmo
END:VEVENT
END:VCALENDAR