BEGIN:VCALENDAR
VERSION:2.0
CALSCALE:GREGORIAN
PRODID:-//MyApp//Calendar 1.0//EN
BEGIN:VEVENT
METHOD:PUBLISH
UID:54990@regionalniportaly.cz
DTSTAMP:20260422T205247Z
DTSTART;VALUE=DATE:20251014
DTEND;VALUE=DATE:20251015
SUMMARY:Jan Koller
DESCRIPTION:Příběh Jana Kollera se řadí mezi světový unikát. Spousty prestižních zahraničních serverů se mu v minulosti věnovalo a shodli se na tom\, že story “Českého Honzy“ je skutečnou pohádkou\, která je asi už navždy nenapodobitelná. Sympatický obr totiž celé dětství\, mládí a začátek plnoletosti nastupoval za amatérské kluby na vesnické úrovni. Nejčastěji pak za Smetanovu Lhotu v Jižních Čechách. Nikdo by si tenkrát ani v tom nejodvážnějším snu nedovedl asi představit\, že z kluka\, který dává góly ve vísce o 300 obyvatelích\, bude jednou postrach všech fotbalových obran a brankářů.Honza se shodou náhod dokázal dostat do rezervního mužstva tehdejší Sparty Praha\, protože byl v Praze na brigádě a neměl kde trénovat. Přes rezervu se zanedlouho dokázal prokousat do kabiny prvního mužstva\, kde se to jen hemžilo hvězdami a reprezentanty. Honza se dokázal prosadit do sestavy a vstřelit své první ligové góly. Bylo to něco neuvěřitelného. Když se mu angažmá ve Spartě přestávalo dařit\, odešel do Belgického Lokerenu. I tam dokázal zlomit nepřízeň osudu a nakonec přestoupil do nejslavnějšího belgického a královského klubu Anderlecht Brusel. Zde vyhrál 2 tituly. Poté následovala Borussia Dortmund a titul v Bundeslize. Více než dvoumetrový obr se dokázal dostat až na vrchol. Střílel góly na mistrovství Evropy i světa a vyhrával tituly. Příběh Honzy Kollera není jen příběhem člověka\, který to nevzdal i když mu nikdo nevěřil. Je to také příběh pro každého chlapce\, který dnes hraje na vesnici fotbal. Příběh o tom\, že pohádky se dějí a vždycky musí být motivace jít dál.
LOCATION:Znojmo
END:VEVENT
END:VCALENDAR