BEGIN:VCALENDAR
VERSION:2.0
CALSCALE:GREGORIAN
PRODID:-//MyApp//Calendar 1.0//EN
BEGIN:VEVENT
METHOD:PUBLISH
UID:54992@regionalniportaly.cz
DTSTAMP:20260422T154157Z
DTSTART;VALUE=DATE:20251030
DTEND;VALUE=DATE:20251031
SUMMARY:Jaroslav Satoranský
DESCRIPTION:Dlouholetý člen Divadla na Vinohradech&nbsp\;Jaroslav Satoranský&nbsp\;se ve vzpomínkách a vyprávění s typickým plachým úsměvem vrací ke svým začátkům před filmovou kamerou (vedle modelky Olgy Schoberové) a&nbsp\;na jevišti v partnerství s Hanou Maciuchovou. Pozve vás do herecké šatny mezi oblíbené kolegy i před televizní kameru mj. jako nejmladší z rodu Hamrů nebo&nbsp\;mjr. Koutný z detektivního seriálu: Policie Modrava.&nbsp\;Večer s&nbsp\;Jaroslavem Satoranským nabízí jedinečné&nbsp\;setkání s velkou\, ale&nbsp\;nenápadnou a nestárnoucí&nbsp\;hereckou hvězdou.
LOCATION:Znojmo
END:VEVENT
END:VCALENDAR