BEGIN:VCALENDAR
VERSION:2.0
CALSCALE:GREGORIAN
PRODID:-//MyApp//Calendar 1.0//EN
BEGIN:VEVENT
METHOD:PUBLISH
UID:55194@regionalniportaly.cz
DTSTAMP:20260422T142335Z
DTSTART;VALUE=DATE:20250905
DTEND;VALUE=DATE:20250906
SUMMARY:Jiří Pavlica & Hradišťan
DESCRIPTION:Prodej vstupenek na místě od 17:00 (pouze v hotovosti 450\,-Kč). Kapacita areálu omezena. Vstup do areálu od 18:00. Začátek koncertu od 19:00.&nbsp\;Koncert se koná v rámci jubilejního dvacátého ročníku Slavností chleba ve Slupi\, které probíhají v areálu Národní kulturní památky Vodního mlýna ve Slupi. Jako host vystoupí ženský sbor Moruše z Podyjí.&nbsp\;Místa k sezení a občerstvení jsou zajištěny.&nbsp\;K&nbsp\;prodeji bude chleba upečený v polní pekárně za mlýnem. Také můžete ochutnat&nbsp\; vína místních vinařů.Vstupenky v předprodeji platí&nbsp\;pouze na koncert v pátek 5.9.2025.Vstupenky na koncert (v předprodeji 390\,-Kč\, na místě 450\,-Kč) neplatí&nbsp\;na Slavnosti chleba v sobotu 6.9.2025. Tyto vstupenky se budou prodávat v sobotu 6.9.2025&nbsp\;pouze na místě.&nbsp\;Více informací na:www.slup.cz/slavnosti-chleba&nbsp\;Jiří Pavlica&nbsp\;&amp\; HRADIŠŤAN&nbsp\;je ojedinělé seskupení s vysokou uměleckou i interpretační úrovní\, nezvykle širokým žánrovým záběrem a netradičním repertoárem\, který v počátcích vycházel zejména z&nbsp\;lidové tradice.
LOCATION:Slup
END:VEVENT
END:VCALENDAR