BEGIN:VCALENDAR
VERSION:2.0
CALSCALE:GREGORIAN
PRODID:-//MyApp//Calendar 1.0//EN
BEGIN:VEVENT
METHOD:PUBLISH
UID:55329@regionalniportaly.cz
DTSTAMP:20260422T142355Z
DTSTART;VALUE=DATE:20250821
DTEND;VALUE=DATE:20250822
SUMMARY:Dasha & Janek Ledecký
DESCRIPTION:Dasha patří k&nbsp\;nejpopulárnějším interpretkám naší domácí hudební scény\, jejíž alba jsou velice kladně hodnocena recenzenty. A&nbsp\;naopak Janka Ledeckého snad ani nemusíme představovat. Jeho známé hity jako&nbsp\;„Proklínám“&nbsp\;nebo&nbsp\;„Na ptáky jsme krátký“ jsou oblíbenými mezi všemi věkovými kategoriemi posluchačů.AKCE SE KONÁ ZA KAŽDÉHO POČASÍV případě deště použijte prosím pláštěnky - deštníky nebudou akceptovány.Harmonogram:18:00 otevření areálu19:00 koncert DASHA a Pajky Pajk** pauza21:00 koncert Janek Ledecký
LOCATION:Dobšice
END:VEVENT
END:VCALENDAR