BEGIN:VCALENDAR
VERSION:2.0
CALSCALE:GREGORIAN
PRODID:-//MyApp//Calendar 1.0//EN
BEGIN:VEVENT
METHOD:PUBLISH
UID:55491@regionalniportaly.cz
DTSTAMP:20260422T181515Z
DTSTART;VALUE=DATE:20250725
DTEND;VALUE=DATE:20250726
SUMMARY:Šramlfest 2025
DESCRIPTION:ProgramPátekDivadlo Damúza16:00&nbsp\;JamV6 / CZ18:00&nbsp\;Panoptikum / CZ20:00&nbsp\;Madhouse Express / CZ22:00&nbsp\;Flip Beckmann / GBSobotaPatálie &amp\; Trampota&nbsp\;15:30Hickory Jack / CZ&nbsp\;16:00Adam Ben Ezra / IL&nbsp\;18:00Ukandanz / FR-ET&nbsp\;20:00Madmadmad / GB&nbsp\;22:00
LOCATION:Znojmo
END:VEVENT
END:VCALENDAR