BEGIN:VCALENDAR
VERSION:2.0
CALSCALE:GREGORIAN
PRODID:-//MyApp//Calendar 1.0//EN
BEGIN:VEVENT
METHOD:PUBLISH
UID:56119@regionalniportaly.cz
DTSTAMP:20260422T165253Z
DTSTART;VALUE=DATE:20250724
DTEND;VALUE=DATE:20250725
SUMMARY:Hudba a já: Vladimír Javorský
DESCRIPTION:Vynikající český herec a&nbsp\;srdcem muzikant&nbsp\;Vladimír Javorský&nbsp\;v&nbsp\;hudebním dialogu s&nbsp\;muzikologem\, hudebníkem mnoha tváří&nbsp\;Marianem Friedlem\, který&nbsp\;se věnuje oživování hry na&nbsp\;zapomenuté nástroje\, hudební tvorbě a&nbsp\;popularizaci lidové hudby\, jazzu a&nbsp\;improvizace.Ve Starém zámku v&nbsp\;Jevišovicích se&nbsp\;nachází mimořádně hodnotná sbírka historických hudebních nástrojů\, která je po&nbsp\;Praze druhou nejvýznamnější v&nbsp\;České republice.
LOCATION:Jevišovice
END:VEVENT
END:VCALENDAR