BEGIN:VCALENDAR
VERSION:2.0
CALSCALE:GREGORIAN
PRODID:-//MyApp//Calendar 1.0//EN
BEGIN:VEVENT
METHOD:PUBLISH
UID:56209@regionalniportaly.cz
DTSTAMP:20260422T205130Z
DTSTART;VALUE=DATE:20250726
DTEND;VALUE=DATE:20250727
SUMMARY:Šanovská letní noc
DESCRIPTION:Komponovaný večer s&nbsp\;folklorní hudbou a&nbsp\;tancemZažijte jedinečný folklorní večer plný hudby\, tance a&nbsp\;tradic!Do Šanova přijíždí folklorní soubor zpod hory Javorina. Program vám přiblíží slovácké oblasti Dolňácko\, Horňácko i&nbsp\;Moravské Kopanice. Těšte se&nbsp\;na párové tance\, mužský sólový tanec verbuňk a&nbsp\;hudební vystoupení cimbálové muziky Tichá voda. Program vznikl speciálně pro tento večer v&nbsp\;Šanově. Hudebně-taneční folklorní program připravil Jan Minks z&nbsp\;tradiční horňácké rodiny folkloristů.Program pokračuje besedou u&nbsp\;cimbálu s&nbsp\;Hudeckou muzikou Vinohrad složenou z&nbsp\;odrostenců Dětského folklorního souboru Dyjavánek Znojmo\, obvykle hrající&nbsp\;písně z&nbsp\;Moravy (Horňácko\, Slovácko\, Valašsko a&nbsp\;Lašsko)\, okrajově písně z&nbsp\;Moravsko-slovenského pomezí a&nbsp\;výjimečně i&nbsp\;písně ze&nbsp\;Slovenska a&nbsp\;Čech.Ze Znojma bude vypraven turistický vyhlídkový vlak tažený motorovou mašinkou s&nbsp\;kapaciou 60 cestujících. Na&nbsp\;nástupišti a&nbsp\;ve vlaku bude hrát HM Vinohrad a&nbsp\;můžete ochutnat vína z&nbsp\;festivalové kolekce. Vlak přijede na&nbsp\;nádraží Šanov\, místo konání koncertu je pak asi 600m pěšky.17:40 hod. přistavení vláčku ve&nbsp\;Znojmě18:20 hod. odjezd ze&nbsp\;Znojma23:05 hod. odjezd ze&nbsp\;Šanova23:45 hod. předpokládaný příjezd do&nbsp\;Znojma
LOCATION:Šanov
END:VEVENT
END:VCALENDAR