BEGIN:VCALENDAR
VERSION:2.0
CALSCALE:GREGORIAN
PRODID:-//MyApp//Calendar 1.0//EN
BEGIN:VEVENT
METHOD:PUBLISH
UID:56912@regionalniportaly.cz
DTSTAMP:20260422T152454Z
DTSTART;VALUE=DATE:20251111
DTEND;VALUE=DATE:20251112
SUMMARY:Pavlína Jíšová
DESCRIPTION:Recitál "PÍSNIČKY S KYTAROU" stálice české folkové scény Pavlíny Jíšové.
LOCATION:Znojmo
END:VEVENT
END:VCALENDAR