BEGIN:VCALENDAR
VERSION:2.0
CALSCALE:GREGORIAN
PRODID:-//MyApp//Calendar 1.0//EN
BEGIN:VEVENT
METHOD:PUBLISH
UID:57779@regionalniportaly.cz
DTSTAMP:20260422T142405Z
DTSTART;VALUE=DATE:20250920
DTEND;VALUE=DATE:20250921
SUMMARY:Slam poetry exhibice | Znojmo
DESCRIPTION:Performativní žánr přednesu autorské poezie. Žádné kostýmy. Ani rekvizity. Vlastní text. Nebo improvizace. Dojetí! Smích? Dekadence?! A body publika! Slam!!!Třeba takhle:https://www.youtube.com/watch?v=8DWr553EVd0ANATOL SVAHILEC (mistr ČR 2014\, maskot žánru\, strýček Jedlička české slam poetry)ČLOBRDAN (finalista MČR 2024\, slovní žonglér od liteňských lesů)DRŽGREŠLE (mistryně ČR v duoslamu 2025\, slamová krev z Brnopolabí\, jamačka)BEN (ve dne pedagog latinář - v plášti noci bard!)
LOCATION:Znojmo
END:VEVENT
END:VCALENDAR