BEGIN:VCALENDAR
VERSION:2.0
CALSCALE:GREGORIAN
PRODID:-//MyApp//Calendar 1.0//EN
BEGIN:VEVENT
METHOD:PUBLISH
UID:57811@regionalniportaly.cz
DTSTAMP:20260422T164212Z
DTSTART;VALUE=DATE:20251121
DTEND;VALUE=DATE:20251122
SUMMARY:Život Freddie Mercuryho slovy Petera Freestona - Talkshow
DESCRIPTION:Zažijte poslední a&nbsp\;neopakovatelný večer plný emocí\, hudby a&nbsp\;příběhů! Peter Freestone\, nejbližší přítel a&nbsp\;pravá ruka Freddieho Mercuryho\, vás provede 12&nbsp\;lety života po boku krále rocku. Poodhalí dosud neznámé příběhy\, zavede vás do zákulisí tvorby kapely Queen a&nbsp\;podělí se o&nbsp\;vzpomínky na Freddieho až do jeho posledních dnů. Uslyšíte i&nbsp\;zajímavosti z&nbsp\;natáčení oscarového filmu Bohemian Rhapsody\, kde Peter působil jako poradce.Celý večer má jedinečný interaktivní charakter. Příběhy a&nbsp\;mluvené slovo se prolínají s&nbsp\;živou hudbou v&nbsp\;podání českého zpěváka Milana Devinne\, který jako jediný Čech vystoupil ve filmu Bohemian Rhapsody po boku hlavních představitelů. Milan Devinne s&nbsp\;úctou přináší písně kapely Queen v&nbsp\;komorním unplugged provedení. Jeho vystoupení si získalo obdiv publika v&nbsp\;Mexiku\, Jihoafrické republice\, USA\, Itálii\, Švýcarsku\, Maďarsku a&nbsp\;dalších zemích.Talkshow je doplněna o&nbsp\;projekci autentických fotografií a&nbsp\;videí z&nbsp\;osobního archivu Petera Freestona\, díky čemuž budete mít pocit\, že nahlížíte přímo do života jedné z&nbsp\;největších hudebních legend všech dob.Speciální tour „Farewell“ je zároveň rozloučením s&nbsp\;kariérou Petera Freestona a&nbsp\;je připraveno jako pocta k&nbsp\;jeho 70.&nbsp\;narozeninám. Tato tour zakončí své působení také v&nbsp\;prestižních destinacích jako jsou Japonsko\, Zanzibar a&nbsp\;USA.Show je tlumočená do češtiny a&nbsp\;Peter vás na závěr potěší několika slovy v&nbsp\;našem rodném jazyce.Na závěr navíc proběhne autogramiáda a&nbsp\;prodej knihy Petera Freestona “Ve správný čas\, na správném místě”.Přijďte si vychutnat večer plný příběhů a&nbsp\;hudby\, které změnily svět.Show je tlumočená do češtiny
LOCATION:Znojmo
END:VEVENT
END:VCALENDAR