BEGIN:VCALENDAR
VERSION:2.0
CALSCALE:GREGORIAN
PRODID:-//MyApp//Calendar 1.0//EN
BEGIN:VEVENT
METHOD:PUBLISH
UID:57962@regionalniportaly.cz
DTSTAMP:20260422T175732Z
DTSTART;VALUE=DATE:20251114
DTEND;VALUE=DATE:20251115
SUMMARY:Ochutnávka moravských vín
DESCRIPTION:Ochutnávkou moravských vín vás provede Ing. Pavel Vajčner.Dozvíte se o odrůdách vinné révy\, které jsou pro tento region typické a mnoho dlaších zajímavostí s moravským vínem spojených.V ceně je 12 vzroků a malé občerstvení.
LOCATION:Znojmo
END:VEVENT
END:VCALENDAR