BEGIN:VCALENDAR
VERSION:2.0
CALSCALE:GREGORIAN
PRODID:-//MyApp//Calendar 1.0//EN
BEGIN:VEVENT
METHOD:PUBLISH
UID:58001@regionalniportaly.cz
DTSTAMP:20260422T164455Z
DTSTART;VALUE=DATE:20251030
DTEND;VALUE=DATE:20251031
SUMMARY:Turista Svaťa - (Jak jsem nedojel) Po zemi do Austrálie
DESCRIPTION:PO ZEMI DO AUSTRÁLIE! Nemožné? To zjistíme! S touhle myšlenkou jsem ve svých dvaceti letech vyrazil stopem směrem na východ. Jak si poradím téměř bez peněz?Kde budu spát a co jíst? Dá se projet Afghánistán na vlastní pěst? Na podobné otázky jsem předem neznal odpověď. Vlastně jsem ani pořádně nevěděl kudy pojedu\, což se mi nakonec stalo osudným. Za půl roku na cestě\, v zemích jako Írán\, Afghánistán a Pákistán jsem pronikl do kultury muslimského světa a získal zcela jiný pohled na svět. Cesta mi ukázala\, že nic není nemožné a že lidem se dá stále věřit. Především mi ale dala dostatek zkušeností a síly k překonání mnohem větší překážky\, i o tom na konci promluvím.&nbsp\;Srdečně vás zvu na přednášku\, která ve vás vyvolá silné nutkání vyrazit na cestu! Společně poznáme strasti i slasti života mezi muslimy a ukážeme si\, že k cestování není potřeba mnoho peněz ani plánování\, ale spíše vůle a odhodlání. Bude mi potěšením\, vydat se s vámi znovu na tuto cestu\, která mi bez nadsázky změnila život!&nbsp\;S pozdravem\,&nbsp\;Svaťa
LOCATION:Znojmo
END:VEVENT
END:VCALENDAR