BEGIN:VCALENDAR
VERSION:2.0
CALSCALE:GREGORIAN
PRODID:-//MyApp//Calendar 1.0//EN
BEGIN:VEVENT
METHOD:PUBLISH
UID:58347@regionalniportaly.cz
DTSTAMP:20260422T122101Z
DTSTART;VALUE=DATE:20251219
DTEND;VALUE=DATE:20251220
SUMMARY:Ventolin & CTIB
DESCRIPTION:VentolinV rámci NA KONCI DUHY JE KLUB! TOUR 2025 zavítá Ventolin i do Znojma!Elektronický producent Ventolin se vrací s albem Všechno nejlepší. Jedná se o dosud nejpestřejší a nejpropracovanější nahrávku hudebníka a akademika Davida Doubka\, která se žánrově rozpíná od psychedelického acid techna přes jungle\, disco\, indie-pop až k hiphopu. Poprvé ve své diskografii si na album přizval jiného zpěváka – rappera MC Geye. Společně s deskou Ventolin představuje i nový videoklip k singlu Vyšší inteligence.&nbsp\;CTIBPatřil do party\, která organizovala koncerty v klubu Vrah\, a hrál nebo hraje v kapelách – dříve například Telefon nebo Uštkni\, dnes Chorobopop. Vedle punku ho ovlivnil i český předlistopadový folk\, takže když začal vystupovat sólově pod jménem Ctib\, šlo zpočátku o folkpunk s akustickou kytarou. Postupem času mu to ale přestalo stačit – do hudby začal přidávat bicí\, basu a syntezátory\, které si aranžoval na počítači. Nakonec si do počítače nahrál i kytaru a přestal ji vozit na koncerty. Styl\, který takto vytvořil\, pojmenoval „discoegopunk“.V září 2021 vyšla díky brněnskému labelu Kabinet Records jeho první LP deska s názvem Kampak?!. V prosinci 2022 následovalo druhé album Smrad v síni tradic\, opět u stejného vydavatele. Třetí deska je momentálně ve fázi vzniku a pokud půjde vše podle plánu\, vyjde na jaře 2026
LOCATION:Znojmo
END:VEVENT
END:VCALENDAR