BEGIN:VCALENDAR
VERSION:2.0
CALSCALE:GREGORIAN
PRODID:-//MyApp//Calendar 1.0//EN
BEGIN:VEVENT
METHOD:PUBLISH
UID:58365@regionalniportaly.cz
DTSTAMP:20260422T164937Z
DTSTART;VALUE=DATE:20251010
DTEND;VALUE=DATE:20251011
SUMMARY:Pio Squad | 25 Let's Pio Tour Znojmo
DESCRIPTION:Pio Squad slaví 25 let na scéně!&nbsp\;Legendární parta z Jihlavy letos slaví čtvrtstoletí na české hip-hopové scéně a přináší pro fanoušky 25 koncertů po Česku a Slovensku! Od jara do podzimu si vychytej Pio v sestavě Eurodel\, Filip Konvalinka a DJ Five na některé ze zastávek\, kde uslyšíš průřez od úplných začátků do současnosti. Na každé zastávce samozřejmě pořídíš výroční trojvinyl přímo od kapely. 25 Let´s Pio!Supported by: Stop Zevling\, Weedi\, HipHop stage\, Funk the Juice a dalšíLocal support: MC Kukin / DJ HoluP / DJ Potkys
LOCATION:Znojmo
END:VEVENT
END:VCALENDAR