BEGIN:VCALENDAR
VERSION:2.0
CALSCALE:GREGORIAN
PRODID:-//MyApp//Calendar 1.0//EN
BEGIN:VEVENT
METHOD:PUBLISH
UID:58397@regionalniportaly.cz
DTSTAMP:20260424T093755Z
DTSTART;VALUE=DATE:20251101
DTEND;VALUE=DATE:20251102
SUMMARY:Stezka odvahy / ZNOJMO
DESCRIPTION:Stezka odvahy míří do Znojma!Potkáte ty nejstrašidelnější pohádkové a nadpřirozené bytosti\, které otestují vaši odvahu a dovednosti. Připravte se na temná zákoutí a lehké tematické úkoly pro děti!Těšíme se na všechny malé i velké odvážlivce!&nbsp\;Vhodné pro děti 3 - 10 letDatum: 01.11. 2025Čas: Najdete na své zakoupené vstupenceMísto:&nbsp\;Městský park\, ulice Pontassievská\, ZnojmoStart:&nbsp\;https://mapy.com/s/fofufusubaKaždých 5 minut pouštíme na stezku skupinku přibližně 5 dětí s rodiči\, které budou mezi sebou soupeřit v odvaze a dovednostech.Zakoupením vstupenky berete na vědomí a souhlasíte\, že vstupujete na trasu výhradně na vlastní nebezpečí. Za svou bezpečnost a bezpečnost svých dětí zodpovídáte sami.&nbsp\;
LOCATION:Znojmo
END:VEVENT
END:VCALENDAR