BEGIN:VCALENDAR
VERSION:2.0
CALSCALE:GREGORIAN
PRODID:-//MyApp//Calendar 1.0//EN
BEGIN:VEVENT
METHOD:PUBLISH
UID:58497@regionalniportaly.cz
DTSTAMP:20260422T165542Z
DTSTART;VALUE=DATE:20251003
DTEND;VALUE=DATE:20251004
SUMMARY:Ty Syčáci Na Věčnosti
DESCRIPTION:Tři alba\, tři syčácké opery a teď lehce feministická psychodetektivka DLOUHÁ\, ŠIROKÁ A BYSTROZRAKÁ. Ty Syčáci s ukázkami nejen z nového chystaného alba.
LOCATION:Znojmo
END:VEVENT
END:VCALENDAR