BEGIN:VCALENDAR
VERSION:2.0
CALSCALE:GREGORIAN
PRODID:-//MyApp//Calendar 1.0//EN
BEGIN:VEVENT
METHOD:PUBLISH
UID:58689@regionalniportaly.cz
DTSTAMP:20260422T164127Z
DTSTART;VALUE=DATE:20251122
DTEND;VALUE=DATE:20251123
SUMMARY:Lada Andrová: Zdravá noha sportujícího dítěte
DESCRIPTION:Workshop je zaměřený&nbsp\;na význam zdravého vývoje nohou u dětí\, které se věnují sportu\, a na prevenci nejčastějších problémů pohybového aparátu. Účastnící se seznámí se základy anatomie dětské nohy. Budou představeny vlivy sportovní zátěže\, vhodné i nevhodné obuvi a tréninkových návyků na zdraví nohou.&nbsp\;Součástí programu je diagnostika varovných signálů (plochonoží\, valgozita\, varozita)\, zásady správné kompenzace jednostranné zátěže a praktická doporučení aktivaci klenby\, stabilizaci kotníků a prevenci úrazů. Workshop nabídne také ukázky jednoduchých cvičení\, která mohou rodiče\, trenéři\, pedagogové zařadit do tréninkového plánu i domácí péče. V rámci workshopu bude i praktická ukázka diagnostiky u dětí.&nbsp\;Přednášející: Bc. Lada Andrová je zkušená fyzioterapeutka a instruktorka funkčního pohybu. Specializuje se na práci s fasciemi\, pánevním dnem\, čelistním kloubem a problematikou chodidla. Ve své praxi propojuje pohyb\, dech\, psychiku i životní styl a tělo vnímá jako celek. Vede workshopy a školení pro odborníky i širokou veřejnost a neustále se vzdělává v nejnovějších metodách fyzioterapie.
LOCATION:Znojmo
END:VEVENT
END:VCALENDAR